BEGIN:VCALENDAR
VERSION:2.0
PRODID:-//Urban Milwaukee - ECPv4.6.9//NONSGML v1.0//EN
CALSCALE:GREGORIAN
METHOD:PUBLISH
X-WR-CALNAME:Urban Milwaukee
X-ORIGINAL-URL:https://urbanmilwaukee.com
X-WR-CALDESC:Events for Urban Milwaukee
BEGIN:VEVENT
DTSTART;TZID=America/Chicago:20251205T193000
DTEND;TZID=America/Chicago:20251205T193000
DTSTAMP:20260424T104310
CREATED:20251027T142745Z
LAST-MODIFIED:20251027T142745Z
UID:913864-1764963000-1764963000@urbanmilwaukee.com
SUMMARY:Resounding Joy: Christmas at the Basilica
DESCRIPTION:Songs of comfort and joy at the iconic Milwaukee Basilica! A great way to start off the holiday season\, join Bel Canto Chorus for a well loved Milwaukee tradition of beautiful music in a spectacular venue. Featuring new settings of works and other classic carols… don’t be afraid to join in! This concert features several audience sing-a-longs to help you get into the spirit of the season. \n
URL:https://urbanmilwaukee.com/event/resounding-joy-christmas-at-the-basilica/
LOCATION:2333 S. 6th St.\, Milwaukee\, WI\, 53215\, United States
CATEGORIES:Arts & Entertainment
ATTACH;FMTTYPE=image/jpeg:https://urbanmilwaukee.com/wp-content/uploads/2025/10/December.jpeg
END:VEVENT
END:VCALENDAR