BEGIN:VCALENDAR
VERSION:2.0
PRODID:-//Urban Milwaukee - ECPv4.6.9//NONSGML v1.0//EN
CALSCALE:GREGORIAN
METHOD:PUBLISH
X-WR-CALNAME:Urban Milwaukee
X-ORIGINAL-URL:https://urbanmilwaukee.com
X-WR-CALDESC:Events for Urban Milwaukee
BEGIN:VEVENT
DTSTART;TZID=America/Chicago:20240713T170000
DTEND;TZID=America/Chicago:20240713T233000
DTSTAMP:20260419T142923
CREATED:20240709T172623Z
LAST-MODIFIED:20240709T172821Z
UID:794916-1720890000-1720913400@urbanmilwaukee.com
SUMMARY:Relay for Life of Greater Milwaukee Community Walk
DESCRIPTION:The Relay for Life of Greater Milwaukee is a community walk to benefit the American Cancer Society. It includes four signature elements: a celebration of cancer survivors\, a celebration of caregivers\, a luminaria ceremony to honor and remember loved ones\, and the opportunity to fight back against cancer. \nMore than just a walk\, the American Cancer Society Relay for Life of Greater Milwaukee brings together passionate supporters who embody the American Cancer Society vision to end cancer as we know it\, for everyone. This volunteer-led experience unites our community to celebrate cancer survivors\, remember loved ones lost to cancer\, and raise funds to improve the lives of people with cancer and their families through advocacy\, research\, and patient support\, to ensure everyone has an opportunity to prevent\, detect\, treat\, and survive cancer. \nPlease join us for a fun night filled with many activities\, such as a game tent\, kid’s grab bags\, lawn games\, a silent auction\, a survivor lounge\, concessions\, a luminaria ceremony\, a poker walk\, and of course\, a track to walk as we celebrate\, remember\, and fight back against cancer! \n
URL:https://urbanmilwaukee.com/event/relay-for-life-of-greater-milwaukee-community-walk/
LOCATION:11601 W Lincoln Ave\, West Allis\, WI\, 53227\, United States
CATEGORIES:Fundraiser,Health
ATTACH;FMTTYPE=image/jpeg:https://urbanmilwaukee.com/wp-content/uploads/2024/07/RFL-GM5.jpg
END:VEVENT
END:VCALENDAR