BEGIN:VCALENDAR
VERSION:2.0
PRODID:-//Urban Milwaukee - ECPv4.6.9//NONSGML v1.0//EN
CALSCALE:GREGORIAN
METHOD:PUBLISH
X-WR-CALNAME:Urban Milwaukee
X-ORIGINAL-URL:https://urbanmilwaukee.com
X-WR-CALDESC:Events for Urban Milwaukee
BEGIN:VEVENT
DTSTART;TZID=America/Chicago:20161015T170000
DTEND;TZID=America/Chicago:20161015T230000
DTSTAMP:20260424T025414
CREATED:20160901T235822Z
LAST-MODIFIED:20160901T235822Z
UID:179577-1476550800-1476572400@urbanmilwaukee.com
SUMMARY:RAM's Pirate Party: Steampunk Style
DESCRIPTION:Ahoy Me Hearties! Come aboard fer an evening of frivolity! \nAll hands on deck for RAM’s annual fundraising event on Saturday\, October 15\, 2016. Chart yer course for Racine Masonic Center\, 1012 Main Street. This elegant Italianate Mansion built in 1856 provides the perfect backdrop for RAM’s Pirate Party: Steampunk Style. \nEnjoy a veritable feast of foods\, partake in libations\, and bid on a treasure trove of experiences and distinctive items. Enter the raffles to win some loot\, discover your pirate moniker\, and pose for souvenir photos. \nEach guest will receive a $10 voucher valid for any auction purchase. \n$85 per person (Save $10 limited time)\n$600 table of 8 \nPirate and Steampunk costumes suggested \n—- \nX Marks the Spot\n9:30 – 11:00 pm \nDon’t miss the after-party! Uncover clues on a plundering treasure hunt then conclude yer voyage with song and rations.\n$10 per person \nMark your calendars to set sail for a swashbuckling good time! \nFor more information: http://www.ramart.org/content/ram-annual-fundraiser \n
URL:https://urbanmilwaukee.com/event/rams-pirate-party-steampunk-style/
CATEGORIES:Arts & Entertainment,Food & Drink
ATTACH;FMTTYPE=image/jpeg:https://urbanmilwaukee.com/wp-content/uploads/2016/08/PirateEmail_TFP1606.jpg
END:VEVENT
END:VCALENDAR