BEGIN:VCALENDAR
VERSION:2.0
PRODID:-//Urban Milwaukee - ECPv4.6.9//NONSGML v1.0//EN
CALSCALE:GREGORIAN
METHOD:PUBLISH
X-WR-CALNAME:Urban Milwaukee
X-ORIGINAL-URL:https://urbanmilwaukee.com
X-WR-CALDESC:Events for Urban Milwaukee
BEGIN:VEVENT
DTSTART;TZID=America/Chicago:20241207T170000
DTEND;TZID=America/Chicago:20241207T170000
DTSTAMP:20260419T152907
CREATED:20241018T014944Z
LAST-MODIFIED:20241018T015038Z
UID:816637-1733590800-1733590800@urbanmilwaukee.com
SUMMARY:Rachel Barton Pine with Trio Settecento & Guests - A Baroque Christmas
DESCRIPTION:This delightful program of pastoral Yuletide selections from the Baroque era features the inimitable violinist Rachel Barton Pine\, cellist John Mark Rozendaal\, and harpsichordist David Schrader in a Christmastime celebration of joy\, winter\, and spiritual salvation. Includes music of Bach\, Handel\, and a selection from Vivaldi’s Four Seasons. \n
URL:https://urbanmilwaukee.com/event/rachel-barton-pine-with-trio-settecento-guests-a-baroque-christmas/
LOCATION:914 E. Knapp St.\, Milwaukee\, WI\, 53202\, United States
CATEGORIES:Arts & Entertainment
ATTACH;FMTTYPE=image/jpeg:https://urbanmilwaukee.com/wp-content/uploads/2024/10/Rachel-Barton-photo-1-700w.jpg
END:VEVENT
END:VCALENDAR