BEGIN:VCALENDAR
VERSION:2.0
PRODID:-//Urban Milwaukee - ECPv4.6.9//NONSGML v1.0//EN
CALSCALE:GREGORIAN
METHOD:PUBLISH
X-WR-CALNAME:Urban Milwaukee
X-ORIGINAL-URL:https://urbanmilwaukee.com
X-WR-CALDESC:Events for Urban Milwaukee
BEGIN:VEVENT
DTSTART;TZID=America/Chicago:20260109T193000
DTEND;TZID=America/Chicago:20260109T193000
DTSTAMP:20260423T235438
CREATED:20250902T202929Z
LAST-MODIFIED:20250902T202929Z
UID:898447-1767987000-1767987000@urbanmilwaukee.com
SUMMARY:Preview: Cardboard Piano
DESCRIPTION:On New Year’s Eve 1999 in war-torn Uganda\, two young lovers—one a local girl and the other the daughter of American missionaries—marry in secret. Their joy is shattered by violence in this powerful drama about hatred\, forgiveness\, and love. \nPay-What-You Choose Preview is Friday\, Jan 9 at 7:30 p.m.\nTickets go on sale same-day\, in person only at 6:30 p.m. \n
URL:https://urbanmilwaukee.com/event/preview-cardboard-piano-2/
LOCATION:255 S Water St\,\, Milwaukee\, WI\, 53204\, United States
CATEGORIES:Arts & Entertainment
ATTACH;FMTTYPE=image/jpeg:https://urbanmilwaukee.com/wp-content/uploads/2025/08/Cardboard-Piano-1.jpg
END:VEVENT
END:VCALENDAR