BEGIN:VCALENDAR
VERSION:2.0
PRODID:-//Urban Milwaukee - ECPv4.6.9//NONSGML v1.0//EN
CALSCALE:GREGORIAN
METHOD:PUBLISH
X-WR-CALNAME:Urban Milwaukee
X-ORIGINAL-URL:https://urbanmilwaukee.com
X-WR-CALDESC:Events for Urban Milwaukee
BEGIN:VEVENT
DTSTART;TZID=America/Chicago:20181209T150000
DTEND;TZID=America/Chicago:20181209T170000
DTSTAMP:20260425T222344
CREATED:20181118T152940Z
LAST-MODIFIED:20181118T152940Z
UID:422168-1544367600-1544374800@urbanmilwaukee.com
SUMMARY:Pomerium\, "Creator of the Stars: Christmas Music From the Old World"
DESCRIPTION:Among the themes celebrated in the sacred art of the Middle Ages and Renaissance\, none approaches in significance the threefold mysteries of the Christian faith: Christmas\, Easter\, and Pentecost. This concert presents a selection of Gregorian chant and monophonic devotional songs for the Christmas season alongside polyphonic works by Renaissance masters William Byrd\, Josquin des Prez\, and Giovanni Palestrina. \n
URL:https://urbanmilwaukee.com/event/pomerium-creator-of-the-stars-christmas-music-from-the-old-world-2/
LOCATION:1501 S. Layton Blvd\, Milwaukee\, WI\, 53215\, United States
CATEGORIES:Arts & Entertainment
ATTACH;FMTTYPE=image/jpeg:https://urbanmilwaukee.com/wp-content/uploads/2018/09/Pomerium2-1.jpg
END:VEVENT
END:VCALENDAR