BEGIN:VCALENDAR
VERSION:2.0
PRODID:-//Urban Milwaukee - ECPv4.6.9//NONSGML v1.0//EN
CALSCALE:GREGORIAN
METHOD:PUBLISH
X-WR-CALNAME:Urban Milwaukee
X-ORIGINAL-URL:https://urbanmilwaukee.com
X-WR-CALDESC:Events for Urban Milwaukee
BEGIN:VEVENT
DTSTART;TZID=America/Chicago:20251222T100000
DTEND;TZID=America/Chicago:20251222T130000
DTSTAMP:20260424T112435
CREATED:20251110T174119Z
LAST-MODIFIED:20251110T174119Z
UID:918037-1766397600-1766408400@urbanmilwaukee.com
SUMMARY:Play Date with Art: Winter Break Fun!
DESCRIPTION:It’s never too early to learn to love art! Come and make your own container inspired by Wendell Castle’s Walking Cabinet. Add arms\, legs\, and whatever pattern you would like as you make your own animal box. Then join in the sing-alongs at 10:30 and 11:15 a.m. This monthly program is designed especially for visitors ages five and under (with an adult). \nThis drop-in experience is included with Museum admission and is free for Members. Kids 12 and under always receive free admission\, thanks to an anonymous donor. \n
URL:https://urbanmilwaukee.com/event/play-date-with-art-winter-break-fun/
LOCATION:700 N Art Museum Dr\, Milwaukee\, WI\, 53202\, United States
CATEGORIES:Arts & Entertainment,Kids
ATTACH;FMTTYPE=image/jpeg:https://urbanmilwaukee.com/wp-content/uploads/2025/11/playdate.jpg
END:VEVENT
END:VCALENDAR