BEGIN:VCALENDAR
VERSION:2.0
PRODID:-//Urban Milwaukee - ECPv4.6.9//NONSGML v1.0//EN
CALSCALE:GREGORIAN
METHOD:PUBLISH
X-WR-CALNAME:Urban Milwaukee
X-ORIGINAL-URL:https://urbanmilwaukee.com
X-WR-CALDESC:Events for Urban Milwaukee
BEGIN:VEVENT
DTSTART;TZID=America/Chicago:20190425T173000
DTEND;TZID=America/Chicago:20190425T173000
DTSTAMP:20260422T150855
CREATED:20190414T040054Z
LAST-MODIFIED:20190414T040728Z
UID:447972-1556213400-1556213400@urbanmilwaukee.com
SUMMARY:Plated
DESCRIPTION:According to the US Census Bureau\, approximately 28% of Milwaukee County residents live in poverty. However\, many people outside this group have no idea what poverty feels like.\nPlated\, is a powerful event designed to change that. \nOn Thursday\, April 25\, The Social Development Foundation will host a unique\, interactive experience in which everyone lives in poverty. With “role-playing” and the guidance of University of Wisconsin Milwaukee experts\, Plated participants will actually feel what people experience in poverty. \n
URL:https://urbanmilwaukee.com/event/plated/
LOCATION:11600 W. Park Pl.\, Milwaukee\, WI\, 53224\, United States
CATEGORIES:Food & Drink,Politics
ATTACH;FMTTYPE=image/jpeg:https://urbanmilwaukee.com/wp-content/uploads/2019/04/Plated-Logo-2019.jpg
END:VEVENT
END:VCALENDAR