BEGIN:VCALENDAR
VERSION:2.0
PRODID:-//Urban Milwaukee - ECPv4.6.9//NONSGML v1.0//EN
CALSCALE:GREGORIAN
METHOD:PUBLISH
X-WR-CALNAME:Urban Milwaukee
X-ORIGINAL-URL:https://urbanmilwaukee.com
X-WR-CALDESC:Events for Urban Milwaukee
BEGIN:VEVENT
DTSTART;TZID=America/Chicago:20260117T130000
DTEND;TZID=America/Chicago:20260117T150000
DTSTAMP:20260423T002222
CREATED:20260115T181332Z
LAST-MODIFIED:20260115T181332Z
UID:937806-1768654800-1768662000@urbanmilwaukee.com
SUMMARY:Planetarium Open House
DESCRIPTION:Celebrate 60 years of the UWM Planetarium with our annual open house. Enjoy free cake plus a live\, indoor 20-minute presentation and stargazing show that will take audience members on a live\, interactive tour of the night sky. Shows will run every half hour and highlight some favorite astronomical topics and seasonal constellations such as Orion\, Taurus\, and the Winter Circle. \nThe program will include an indoor stargazing session of the night sky followed by the opportunity to ask questions. This event is open to the public. Not recommended for children under 4. No advance registration is required. \n
URL:https://urbanmilwaukee.com/event/planetarium-open-house/
LOCATION:1900 E .Kenwood Blvd.\, Milwaukee\, WI\, 53211\, United States
CATEGORIES:Arts & Entertainment
ATTACH;FMTTYPE=image/jpeg:https://urbanmilwaukee.com/wp-content/uploads/2026/01/Open-House_16x9-UWM-Digital-Banner-Spring-2026-smaller-scaled.jpg
END:VEVENT
END:VCALENDAR