BEGIN:VCALENDAR
VERSION:2.0
PRODID:-//Urban Milwaukee - ECPv4.6.9//NONSGML v1.0//EN
CALSCALE:GREGORIAN
METHOD:PUBLISH
X-WR-CALNAME:Urban Milwaukee
X-ORIGINAL-URL:https://urbanmilwaukee.com
X-WR-CALDESC:Events for Urban Milwaukee
BEGIN:VEVENT
DTSTART;TZID=America/Chicago:20260117T080000
DTEND;TZID=America/Chicago:20260117T090000
DTSTAMP:20260425T025258
CREATED:20251106T185942Z
LAST-MODIFIED:20251106T185942Z
UID:916960-1768636800-1768640400@urbanmilwaukee.com
SUMMARY:Pilates at MAM
DESCRIPTION:Begin your Saturday with a 60-minute all-levels class that blends classic Pilates fundamentals with yoga postures and gentle stretching specifically designed for dancers. The class begins with breathing\, followed by basic mat work and gentle stretching. Balancing strength and awareness of the body\, this class includes exercises in tabletop position and postures for low back and core strengthening. \nUnderneath the Museum’s iconic wings and with stunning views of Lake Michigan\, this class is led by Catey Ott Thompson of Milwaukee Ballet. \nClass begins at 8 a.m. Arrive as early as 7 a.m. with your yoga mat to settle into the space before the class starts. \nAfter class\, extend your visit to the café and store\, which open early\, at 9 a.m. Parking is available in the Calatrava underground garage; enjoy a $5 rate when you exit before 10 a.m. \nOnline in advance\, general admission tickets are $20 and Museum Member tickets are $10. At the door\, tickets are $25 for general admission and $15 for Members. \n
URL:https://urbanmilwaukee.com/event/pilates-at-mam/
LOCATION:700 N Art Museum Dr\, Milwaukee\, WI\, 53202\, United States
CATEGORIES:Health
ATTACH;FMTTYPE=image/jpeg:https://urbanmilwaukee.com/wp-content/uploads/2025/11/FRPhoto_250201L_C1_053.jpg
END:VEVENT
END:VCALENDAR