BEGIN:VCALENDAR
VERSION:2.0
PRODID:-//Urban Milwaukee - ECPv4.6.9//NONSGML v1.0//EN
CALSCALE:GREGORIAN
METHOD:PUBLISH
X-WR-CALNAME:Urban Milwaukee
X-ORIGINAL-URL:https://urbanmilwaukee.com
X-WR-CALDESC:Events for Urban Milwaukee
BEGIN:VEVENT
DTSTART;TZID=America/Chicago:20191221T200000
DTEND;TZID=America/Chicago:20191221T233000
DTSTAMP:20260423T203023
CREATED:20191219T112151Z
LAST-MODIFIED:20191219T112151Z
UID:485453-1576958400-1576971000@urbanmilwaukee.com
SUMMARY:Paul Cebar Tomorrow Sound Live at Anodyne
DESCRIPTION:Paul Cebar Tomorrow Sound bring forth a funky\, lyrically charged racket that is explosive\, yet intimate. \nTaking cues from the dance bands of western Louisiana (and his native Midwest\,)\, the streets (and 45’s) of New Orleans\, touring African and Caribbean combos and the soul\, funk & blues of his youth\, Paul Cebar is a masterful synthesist of rhythmic culture. His time spent in his second home of New Orleans\, as a musicologist in Florida\, and as a journeyman wanderer in Cuba\, is reflected in his musical worldview. \nAt the core is gifted songwriting\, and the company Paul keeps bears it out: Bonnie Raitt\, Nick Lowe\, Chris Smither\, John Hiatt and Cesar Rosas are among his friends and admirers. \nTomorrow Sound are an elite crew. Drummer Reggie Bordeaux\, New Orleans native percussionist Mac Perkins\, and bassist Mike Fredrickson\, throw down some of the best dance grooves in the business. Multi-instrumentalist Bob Jennings adds the luxury of implying a much larger ensemble with his multi-hued contributions on keys and reeds. \nPaul Cebar Tomorrow Sound’s latest album\, “Fine Rude Thing” is out now. The songs “Baby Shake” and “You Owe it to Me” feature Cebar’s unique mixture of R&B\, Caribbean and New Orleans style. \n
URL:https://urbanmilwaukee.com/event/paul-cebar-tomorrow-sound-live-at-anodyne/
LOCATION:224 W. Bruce St.\, Milwaukee\, WI\, 53204\, United States
CATEGORIES:Arts & Entertainment
ATTACH;FMTTYPE=image/png:https://urbanmilwaukee.com/wp-content/uploads/2019/11/12.21.19.PAULCEBAR.png
END:VEVENT
END:VCALENDAR