BEGIN:VCALENDAR
VERSION:2.0
PRODID:-//Urban Milwaukee - ECPv4.6.9//NONSGML v1.0//EN
CALSCALE:GREGORIAN
METHOD:PUBLISH
X-WR-CALNAME:Urban Milwaukee
X-ORIGINAL-URL:https://urbanmilwaukee.com
X-WR-CALDESC:Events for Urban Milwaukee
BEGIN:VEVENT
DTSTART;TZID=America/Chicago:20171007T100000
DTEND;TZID=America/Chicago:20171007T120000
DTSTAMP:20260424T005229
CREATED:20170918T210837Z
LAST-MODIFIED:20190801T022627Z
UID:369864-1507370400-1507377600@urbanmilwaukee.com
SUMMARY:Panther Prowl 5K Run/Walk
DESCRIPTION:The Panther Prowl 5K is UW-Milwaukee’s premier race event. All proceeds support UWM student scholarships. We hope you will join us this year to participate in this long-standing tradition at the University of Wisconsin-Milwaukee. \n
URL:https://urbanmilwaukee.com/event/panther-prowl-5k-runwalk/
ATTACH;FMTTYPE=image/jpeg:https://urbanmilwaukee.com/wp-content/uploads/2017/07/2017_Panther_Prowl_Logo.jpg
END:VEVENT
END:VCALENDAR