BEGIN:VCALENDAR
VERSION:2.0
PRODID:-//Urban Milwaukee - ECPv4.6.9//NONSGML v1.0//EN
CALSCALE:GREGORIAN
METHOD:PUBLISH
X-WR-CALNAME:Urban Milwaukee
X-ORIGINAL-URL:https://urbanmilwaukee.com
X-WR-CALDESC:Events for Urban Milwaukee
BEGIN:VEVENT
DTSTART;TZID=America/Chicago:20151229T200000
DTEND;TZID=America/Chicago:20151229T230000
DTSTAMP:20260424T232248
CREATED:20160119T153319Z
LAST-MODIFIED:20160119T153319Z
UID:151097-1451419200-1451430000@urbanmilwaukee.com
SUMMARY:Panalure and Exfabula
DESCRIPTION:PANALURE AND EXFABULA \nSat Feb 13 2016 8pm @ 224 W Bruce St. – 8pm \nMilwaukee Band Panalure and Storytellers Ex Fabula Come Together Again in “Cabin Fever\, Songs for a Cold Winter Night” at Anodyne Coffee.\nMilwaukee band Panalure and storytellers Ex Fabula originally partnered last winter under the theme of\, Stories of Love\, Lust and Murder. Hosted by Anodyne Coffee the show paired the original songs of Panalure with personal\, true stories by members of Ex Fabula. The show was a big success and drew a near sell-out crowd and also a large listening audience from WUWM radio’s broadcast of the performance. \nAccording to Fred Ziegler\, Panalure’s vocalist and main songwriter\, “We really enjoyed working with Ex Fabula and the show brought together a new and very attentive audience. The audience was there to listen as everyone loves a story. With Cabin Fever we’re taking the integration of Ex Fabula’s stories and Panalure’s songs to the next level. The new batch of songs and stories in Cabin Fever are an invitation to come in from the cold of the Wisconsin winter and reflect on what it means to hunker down and go inside\, both physically and emotionally.” According to Megan McGee curator and director of Ex Fabula\, “Panalure’s new songs are a bit more acoustic and intimate\, giving us the opportunity to intertwine their songs and our stories in a way that will be even more exciting for the audience. We had a lot of fun with the first show and clearly the audience loved it.” \nPanalure is veteran song-writer\, vocalist and guitarist\, Fred Ziegler with Nathan Kilen on drums\, Michael De Boer and Jason Klagstad on guitars\, Ken Hanson on bass and Kari Hoff on background vocals. \n$10 advance tickets available here–\nhttps://anodynecoffee.com/shop/product-category/events/ \n
URL:https://urbanmilwaukee.com/event/panalure-and-exfabula/
LOCATION:224 W. Bruce St.\, Milwaukee\, WI\, 53204\, United States
CATEGORIES:Arts & Entertainment
END:VEVENT
END:VCALENDAR