BEGIN:VCALENDAR
VERSION:2.0
PRODID:-//Urban Milwaukee - ECPv4.6.9//NONSGML v1.0//EN
CALSCALE:GREGORIAN
METHOD:PUBLISH
X-WR-CALNAME:Urban Milwaukee
X-ORIGINAL-URL:https://urbanmilwaukee.com
X-WR-CALDESC:Events for Urban Milwaukee
BEGIN:VEVENT
DTSTART;TZID=America/Chicago:20161026T180000
DTEND;TZID=America/Chicago:20161026T191500
DTSTAMP:20260424T115930
CREATED:20161112T204340Z
LAST-MODIFIED:20161112T204340Z
UID:186188-1477504800-1477509300@urbanmilwaukee.com
SUMMARY:Osher Distinguished Speaker Series: Time to Care - How Paid Leave Can Transform America
DESCRIPTION:The U.S. is one of only two countries in the world that fail to guarantee any paid leave. Ellen Bravo describes the resulting harm to children\, families\, seniors and the economy as she highlights common sense policy solutions and the movement to win them. Sharing the voices of workers and business leaders. Bravo describes the intended consequences that paid leave has on everything from reducing poverty to boosting public health. \nEllen Bravo directs Family Values @ Work\, a network of coalitions in 24 states working for policies such as paid sick days and family and medical leave insurance. Before helping start FV@W\, Bravo was the director of 9to5. \nAlthough the event is free\, pre-registration is required for Program Number: 8300-9697. \n
URL:https://urbanmilwaukee.com/event/osher-distinguished-speaker-series-time-to-care-how-paid-leave-can-transform-america/
CATEGORIES:Politics
ATTACH;FMTTYPE=image/jpeg:https://urbanmilwaukee.com/wp-content/uploads/2016/10/Bravo-head-shot.jpg
END:VEVENT
END:VCALENDAR