BEGIN:VCALENDAR
VERSION:2.0
PRODID:-//Urban Milwaukee - ECPv4.6.9//NONSGML v1.0//EN
CALSCALE:GREGORIAN
METHOD:PUBLISH
X-WR-CALNAME:Urban Milwaukee
X-ORIGINAL-URL:https://urbanmilwaukee.com
X-WR-CALDESC:Events for Urban Milwaukee
BEGIN:VEVENT
DTSTART;TZID=America/Chicago:20170503T180000
DTEND;TZID=America/Chicago:20170503T191500
DTSTAMP:20260420T065402
CREATED:20170421T180854Z
LAST-MODIFIED:20170421T180854Z
UID:208198-1493834400-1493838900@urbanmilwaukee.com
SUMMARY:Osher Distinguished Lecture Series: The Future of Milwaukee - Michael Gousha
DESCRIPTION:Although admission is free\, pre-registration is required. Please call 414-227-3200. No one knows Milwaukee better than Mike Gousha. For over 30 years\, Mike has interviewed just about everyone who has an impact on our community; government leaders\, business executives\, community activists\, sports and entertainment celebrities and everyday citizens. Who better than Mike to share his insights on the days ahead for Milwaukee? Join us for a lively discussion of what is necessary for a successful and prosperous future of Wisconsin’s largest city. Contact: Kim Beck executive director\, Osher Lifelong Learning Institute\, 414-227-3321. \n
URL:https://urbanmilwaukee.com/event/osher-distinguished-lecture-series-the-future-of-milwaukee-michael-gousha/
CATEGORIES:Politics
ATTACH;FMTTYPE=image/jpeg:https://urbanmilwaukee.com/wp-content/uploads/2017/04/mike_gousha.jpg
END:VEVENT
END:VCALENDAR