BEGIN:VCALENDAR
VERSION:2.0
PRODID:-//Urban Milwaukee - ECPv4.6.9//NONSGML v1.0//EN
CALSCALE:GREGORIAN
METHOD:PUBLISH
X-WR-CALNAME:Urban Milwaukee
X-ORIGINAL-URL:https://urbanmilwaukee.com
X-WR-CALDESC:Events for Urban Milwaukee
BEGIN:VEVENT
DTSTART;TZID=America/Chicago:20190801T180000
DTEND;TZID=America/Chicago:20190801T203000
DTSTAMP:20260422T163024
CREATED:20190723T124912Z
LAST-MODIFIED:20190723T124912Z
UID:464237-1564682400-1564691400@urbanmilwaukee.com
SUMMARY:"Organumics" Book Release Party and Author Program
DESCRIPTION:Join Everything Goes Media and Boswell Book Company as we celebrate the publication of Ben Callif‘s debut book\, Organumics: An Epigenetic Re-Framing of Consciousness\, Life\, and Evolution. Callif is a neuroscientist\, philosopher\, YouTube educator\, life coach\, and Marquette graduate. His book is part science\, part speculative philosophy\, and it proposes a new taxonomic/conceptual unit (the organum) for the life and information sciences as a way of shifting how we think of all organized units of life (be they viruses\, bacteria\, cells\, plants\, human beings\, memes\, societies\, galaxies\, et. al.)\, how they evolve\, how they interact\, and how consciousness fits into that bigger picture. \n6 p.m. – 7 p.m. Reception with the author. Light refreshments\n7 p.m. – 7:45 p.m. Author presentation and Q&A\n7:45 p.m. – 8:30 p.m. Book purchase and signing \n
URL:https://urbanmilwaukee.com/event/organumics-book-release-party-and-author-program/
LOCATION:2559 N. Downer Ave.\, Milwaukee\, WI\, 53211\, United States
CATEGORIES:Arts & Entertainment
ATTACH;FMTTYPE=image/jpeg:https://urbanmilwaukee.com/wp-content/uploads/2019/07/9781893121751.jpg
END:VEVENT
END:VCALENDAR