BEGIN:VCALENDAR
VERSION:2.0
PRODID:-//Urban Milwaukee - ECPv4.6.9//NONSGML v1.0//EN
CALSCALE:GREGORIAN
METHOD:PUBLISH
X-WR-CALNAME:Urban Milwaukee
X-ORIGINAL-URL:https://urbanmilwaukee.com
X-WR-CALDESC:Events for Urban Milwaukee
BEGIN:VEVENT
DTSTART;TZID=America/Chicago:20200925T190000
DTEND;TZID=America/Chicago:20200925T200000
DTSTAMP:20260422T230719
CREATED:20200905T144402Z
LAST-MODIFIED:20200905T144402Z
UID:541782-1601060400-1601064000@urbanmilwaukee.com
SUMMARY:Orbiting Earth: 20 Years of the International Space Station
DESCRIPTION:Celebrate what we have learned from our continuous human presence on the International Space Station for the past 20 years. From growing plants to water filtration and microgravity combustion\, learn about the groundbreaking discoveries we’ve made through this international collaboration. Register for this virtual program at https://uwm.universitytickets.com/w/default.aspx?cid=195 \n
URL:https://urbanmilwaukee.com/event/orbiting-earth-20-years-of-the-international-space-station-2/
LOCATION:1900 E .Kenwood Blvd.\, Milwaukee\, WI\, 53211\, United States
CATEGORIES:History,Kids,Tech,Virtual
ATTACH;FMTTYPE=image/jpeg:https://urbanmilwaukee.com/wp-content/uploads/2020/09/Orbiting-Earth-Square.jpg
END:VEVENT
END:VCALENDAR