BEGIN:VCALENDAR
VERSION:2.0
PRODID:-//Urban Milwaukee - ECPv4.6.9//NONSGML v1.0//EN
CALSCALE:GREGORIAN
METHOD:PUBLISH
X-WR-CALNAME:Urban Milwaukee
X-ORIGINAL-URL:https://urbanmilwaukee.com
X-WR-CALDESC:Events for Urban Milwaukee
BEGIN:VEVENT
DTSTART;TZID=America/Chicago:20190328T190000
DTEND;TZID=America/Chicago:20190328T210000
DTSTAMP:20260423T182543
CREATED:20190318T183450Z
LAST-MODIFIED:20190318T183450Z
UID:445876-1553799600-1553806800@urbanmilwaukee.com
SUMMARY:Opening Preview of Pictures of Resistance
DESCRIPTION:Pictures of Resistance: The Wartime Photographs of Jewish Partisan Faye Schulman \nThe lives of partisans depended on their ability to remain unseen\, undocumented and unidentifiable. But one fighter\, Faye Schulman\, had a camera. \nThe only known Jewish partisan to capture the World War II experience on film\, Schulman’s rare collection of images captures the camaraderie\, horror and loss\, bravery and triumph of the rag-tag\, tough partisans – some Jewish\, some not – who fought the Nazis and their collaborators. \nBorn in Poland in 1924\, Faye Schulman received her first camera from her brother when she was 13. It was that camera which ultimately saved her life\, and allowed her to later document partisan activity. Pictures of Resistance: The Wartime Photography of Jewish Partisan Faye Schulman poses probing questions about this incredible woman and the people whose images she documented. \nSchedule of Evening:\n6:45 p.m. – Doors Open\n– Enjoy hors d’oeuvres\, wine and beer\n– Timed exhibit tours\n7:30 p.m. – Program\n– Women’s Words of Resistance performance by First Stage youth actors\n– Ex Fabula sneak peek of ‘Stories of Resistance’ workshop and curated slam event \nREGISTER HERE: https://jewishmuseummilwaukee.org/events/preview-pictures-of-resistance/ \nMuseum Members $17 | Nonmembers $20\nRSVP Deadline: Sunday\, March 24 \nSponsored by Bader Philanthropies\, Albert & Ann Deshur*\, Anonymous Fund*\, Suzy B Ettinger*\, The Gerald & Louise Stein Family*\, Wisconsin Arts Board with funds from the State of Wisconsin and the National Endowment for the Arts\, Marilyn & Harry Pelz\, Arnie & Cathy Peltz\, Evan and Marion Helfaer Foundation\, Kennedy Barnett Family*\, Plotkin Family*\, Jason Steigman & Dori Frankel Steigman\, We Energies Foundation\, Jody and Jeffrey Steren\, Nathan and Esther Pelz Holocaust Education Resource Center\, Ovation Chai Point and Ovation Jewish Home \n*Donor Advised Fund of the Jewish Community Foundation \nPictures of Resistance: The Wartime Photography of Jewish Partisan Faye Schulman was produced by the Jewish Partisan Educational Foundation (JPEF) and curated by Jill Vexler\, Ph. D. Made possible by Thomas and Johanna Baruch\, the Epstein/Roth Foundation\, the Purjes Foundation\, the Charles and Lynn Schusterman Family Foundation\, the Koret Foundation\, the Taube Foundation for Jewish Life and Culture\, the Holocaust Council of UJA MetroWest\, and Diane and Howard Wohl \nWhat is a Partisan? A partisan is a “member of an organized body of fighters who attack or harass an enemy\, especially within occupied territory\,” and during World War II these groups destroyed railroad tracks\, blew up fortifications\, ambushed German-occupied towns\, and disrupted communications in order to stop the invading Nazis. \n
URL:https://urbanmilwaukee.com/event/opening-preview-of-pictures-of-resistance/
LOCATION:1360 N. Prospect Ave.\, Milwaukee\, WI\, 53202\, United States
CATEGORIES:Arts & Entertainment
ATTACH;FMTTYPE=image/jpeg:https://urbanmilwaukee.com/wp-content/uploads/2019/03/1080_POR.jpg
END:VEVENT
END:VCALENDAR