BEGIN:VCALENDAR
VERSION:2.0
PRODID:-//Urban Milwaukee - ECPv4.6.9//NONSGML v1.0//EN
CALSCALE:GREGORIAN
METHOD:PUBLISH
X-WR-CALNAME:Urban Milwaukee
X-ORIGINAL-URL:https://urbanmilwaukee.com
X-WR-CALDESC:Events for Urban Milwaukee
BEGIN:VEVENT
DTSTART;TZID=America/Chicago:20161023T143000
DTEND;TZID=America/Chicago:20161023T153000
DTSTAMP:20260424T073325
CREATED:20161007T184314Z
LAST-MODIFIED:20161007T184314Z
UID:184478-1477233000-1477236600@urbanmilwaukee.com
SUMMARY:Odyssey Under the Stars
DESCRIPTION:This event is part of the Wisconsin Science Festival. \nTheater and the stars align in this performance of stories from Homer’s The Odyssey that have celestial connections. The event will showcase many of the constellations mentioned in this captivating epic. \nProgram is not suitable for children under age 7. \n
URL:https://urbanmilwaukee.com/event/odyssey-under-the-stars/
CATEGORIES:Arts & Entertainment
ATTACH;FMTTYPE=image/jpeg:https://urbanmilwaukee.com/wp-content/uploads/2016/09/event-stars.jpg
END:VEVENT
END:VCALENDAR