BEGIN:VCALENDAR
VERSION:2.0
PRODID:-//Urban Milwaukee - ECPv4.6.9//NONSGML v1.0//EN
CALSCALE:GREGORIAN
METHOD:PUBLISH
X-WR-CALNAME:Urban Milwaukee
X-ORIGINAL-URL:https://urbanmilwaukee.com
X-WR-CALDESC:Events for Urban Milwaukee
BEGIN:VEVENT
DTSTART;TZID=America/Chicago:20161014T090000
DTEND;TZID=America/Chicago:20161014T153000
DTSTAMP:20260424T195647
CREATED:20161004T121726Z
LAST-MODIFIED:20161004T121726Z
UID:185147-1476435600-1476459000@urbanmilwaukee.com
SUMMARY:O'Brien Fellowship in Public Service Journalism Conference
DESCRIPTION:Four U.S. journalists spent the 2015-16 academic year working with MU students and faculty to report on vital national public policy matters. Join us at the fourth annual O’Brien Fellowship conference as we consider implications and or solutions related to these policies. We will also celebrate Marquette and Milwaukee’s connection to the Pulitzer Prizes\, celebrating its 100 anniversary this year. \n
URL:https://urbanmilwaukee.com/event/obrien-fellowship-in-public-service-journalism-conference-2/
LOCATION:1442 W. Wisconsin Ave.\, Milwaukee\, WI\, 53233\, United States
ATTACH;FMTTYPE=image/jpeg:https://urbanmilwaukee.com/wp-content/uploads/2016/09/marquette-university-undergraduate-psychology-midwest1.jpg
END:VEVENT
END:VCALENDAR