BEGIN:VCALENDAR
VERSION:2.0
PRODID:-//Urban Milwaukee - ECPv4.6.9//NONSGML v1.0//EN
CALSCALE:GREGORIAN
METHOD:PUBLISH
X-WR-CALNAME:Urban Milwaukee
X-ORIGINAL-URL:https://urbanmilwaukee.com
X-WR-CALDESC:Events for Urban Milwaukee
BEGIN:VEVENT
DTSTART;TZID=America/Chicago:20191121T170000
DTEND;TZID=America/Chicago:20191121T190000
DTSTAMP:20260422T171811
CREATED:20191103T161508Z
LAST-MODIFIED:20191103T161508Z
UID:481297-1574355600-1574362800@urbanmilwaukee.com
SUMMARY:November ‘Thirdsday’ + Master Mystery Screening
DESCRIPTION:In the 1910s\, movie theaters were quickly becoming strong competition for the vaudeville stage. Always trying to stay ahead of the times\, Harry Houdini got into the movie business and even started his own studio\, the “Houdini Picture Corporation.” \nIn 1918\, he starred in a 15-part silent serial called “The Master Mystery.” This series tells the story of a Justice Department agent\, Quentin Locke\, who investigates a powerful cartel that is protected by a robot and using a gas weapon known as “The Madagascar Madness.” Highlights of the series include many of Houdini’s daring escapes that were captured with no additional camera tricks. \nWe will be screening the entire series throughout the run of Inescapable: The Life and Legacy of Harry Houdini; this “Thirdsday‘ we will screen parts 6-10 and finish the film on December ‘Thirdsday.’ Join us to view this important piece of film and Houdini history. \nRegular Museum Admission Applies | Members Free \n
URL:https://urbanmilwaukee.com/event/november-thirdsday-master-mystery-screening/
LOCATION:1360 N. Prospect Ave.\, Milwaukee\, WI\, 53202\, United States
CATEGORIES:Arts & Entertainment
ATTACH;FMTTYPE=image/jpeg:https://urbanmilwaukee.com/wp-content/uploads/2019/10/The_Master_Mystery_1919_-_3.jpg
END:VEVENT
END:VCALENDAR