BEGIN:VCALENDAR
VERSION:2.0
PRODID:-//Urban Milwaukee - ECPv4.6.9//NONSGML v1.0//EN
CALSCALE:GREGORIAN
METHOD:PUBLISH
X-WR-CALNAME:Urban Milwaukee
X-ORIGINAL-URL:https://urbanmilwaukee.com
X-WR-CALDESC:Events for Urban Milwaukee
BEGIN:VEVENT
DTSTART;TZID=America/Chicago:20230210T200000
DTEND;TZID=America/Chicago:20230210T233000
DTSTAMP:20260423T045545
CREATED:20230127T065354Z
LAST-MODIFIED:20230127T065354Z
UID:697354-1676059200-1676071800@urbanmilwaukee.com
SUMMARY:North Warren + Doubter with special guests Versio Curs
DESCRIPTION:Join Anodyne Coffee Roasting Co. for an evening of live music featuring performances by North Warren\, Doubter and Versio Curs. North Warren and Doubter are celebrating the release of a split EP between the two bands. \nNorth Warren \nSlacker rock hailing from Milwaukee\, WI. \nDoubter \nTurn up your f*cking headphones. Turn on the TV. Kick it through the f*cking door. Because corporate ass America is trying to take over\, and we won’t f*cking let them. Milwaukee\, WI \nVersio Curs \nVersio Curs is a band. \n$8 adv/ $10 at the door (advance sales until 3pm day of show\, then available at the door). Doors at 7 p.m.\, showtime 8 p.m. \n
URL:https://urbanmilwaukee.com/event/north-warren-doubter-with-special-guests-versio-curs/
LOCATION:224 W. Bruce St.\, Milwaukee\, WI\, 53204\, United States
CATEGORIES:Arts & Entertainment
ATTACH;FMTTYPE=image/png:https://urbanmilwaukee.com/wp-content/uploads/2023/01/northwarren1200.png
ORGANIZER;CN="Anodyne%20Coffee%20Roasting%20Co.":MAILTO:erica@anodynecoffee.com
END:VEVENT
END:VCALENDAR