BEGIN:VCALENDAR
VERSION:2.0
PRODID:-//Urban Milwaukee - ECPv4.6.9//NONSGML v1.0//EN
CALSCALE:GREGORIAN
METHOD:PUBLISH
X-WR-CALNAME:Urban Milwaukee
X-ORIGINAL-URL:https://urbanmilwaukee.com
X-WR-CALDESC:Events for Urban Milwaukee
BEGIN:VEVENT
DTSTART;TZID=America/Chicago:20230107T210000
DTEND;TZID=America/Chicago:20230108T020000
DTSTAMP:20260419T130440
CREATED:20230104T073241Z
LAST-MODIFIED:20230104T073241Z
UID:697081-1673125200-1673143200@urbanmilwaukee.com
SUMMARY:Non- Pop! at Mad Planet
DESCRIPTION:Non-Pop! is back at Mad Planet January 7th! Join us as we celebrate the New Year with our signature dance party! ❤\n📀 DJs: GetMoses x Quadi x DJ GreenFlöw x Police Create Hippies x The Non-Pop! Debut of Nuave Hurt!\n🎨 Live Painting: Lisza Battikha Design x SuedeDragon x The Mad Planet debut of @thevoidofme aka Shannon McCarthy Brill!\n🎨 Face Art: The Non-Pop! Debut of Face Art by Maelynn!\n🎆: Visual Projections: Vj Brye\n❤: January’s Non-Profit: Hunger Task Force\, Inc \n
URL:https://urbanmilwaukee.com/event/non-pop-at-mad-planet/
LOCATION:533 E Center St.\, Milwaukee\, WI\, 53212\, United States
CATEGORIES:Arts & Entertainment
ATTACH;FMTTYPE=image/jpeg:https://urbanmilwaukee.com/wp-content/uploads/2023/01/1.07.jpg
ORGANIZER;CN="Mad%20Planet":MAILTO:madp533@gmail.com
END:VEVENT
END:VCALENDAR