BEGIN:VCALENDAR
VERSION:2.0
PRODID:-//Urban Milwaukee - ECPv4.6.9//NONSGML v1.0//EN
CALSCALE:GREGORIAN
METHOD:PUBLISH
X-WR-CALNAME:Urban Milwaukee
X-ORIGINAL-URL:https://urbanmilwaukee.com
X-WR-CALDESC:Events for Urban Milwaukee
BEGIN:VEVENT
DTSTART;TZID=America/Chicago:20231104T193000
DTEND;TZID=America/Chicago:20231104T210000
DTSTAMP:20260419T163820
CREATED:20231102T043754Z
LAST-MODIFIED:20231102T043754Z
UID:745721-1699126200-1699131600@urbanmilwaukee.com
SUMMARY:Night of the Living Opera
DESCRIPTION:Last season\, Milwaukee Opera Theatre brought you madness and mayhem with the concert reading of our operatic adaptation of the classic horror film\, Night of the Living Dead. This October\, we present the fully staged production\, complete with electrifying vocals\, chamber orchestra\, and zombie puppets courtesy of our friends at Sea Beast Puppet Company and Angry Young Men Ltd. \n
URL:https://urbanmilwaukee.com/event/night-of-the-living-opera-9/
LOCATION:158 N. Broadway\, Milwaukee\, WI\, 53202\, United States
CATEGORIES:Arts & Entertainment
ATTACH;FMTTYPE=image/jpeg:https://urbanmilwaukee.com/wp-content/uploads/2023/10/NOLO-Square-1-6.jpg
END:VEVENT
END:VCALENDAR