BEGIN:VCALENDAR
VERSION:2.0
PRODID:-//Urban Milwaukee - ECPv4.6.9//NONSGML v1.0//EN
CALSCALE:GREGORIAN
METHOD:PUBLISH
X-WR-CALNAME:Urban Milwaukee
X-ORIGINAL-URL:https://urbanmilwaukee.com
X-WR-CALDESC:Events for Urban Milwaukee
BEGIN:VEVENT
DTSTART;TZID=America/Chicago:20190814T170000
DTEND;TZID=America/Chicago:20190814T220000
DTSTAMP:20260422T093009
CREATED:20190805T172723Z
LAST-MODIFIED:20190805T172735Z
UID:468046-1565802000-1565820000@urbanmilwaukee.com
SUMMARY:NEWaukee Night Market
DESCRIPTION:NEWaukee’s Night Market is a free\, outdoor event showcasing a variety of local Milwaukee vendors\, performers and artists. Held monthly during the summer\, the Night Market transforms the heart of downtown into an exciting fusion of all the city has to offer. \nThe goal of the Night Market is to provide a safe\, fun and collaborative space for individuals of all ages and backgrounds to experience Milwaukee. By visiting\, you invest in our community and help reimagine what our downtown could be. \nShop local vendors. Play a life-size game of chess. Sit by a fire and make s’mores with your friends. Listen to live musicians. Go food truck hopping…and eat way too much. Break out into a surprise dance-off! The Night is yours. \n
URL:https://urbanmilwaukee.com/event/newaukee-night-market-3/
CATEGORIES:Arts & Entertainment,Food & Drink
ATTACH;FMTTYPE=image/jpeg:https://urbanmilwaukee.com/wp-content/uploads/2019/08/56290886_2198106140281525_4726748458575200256_n.jpg
END:VEVENT
END:VCALENDAR