BEGIN:VCALENDAR
VERSION:2.0
PRODID:-//Urban Milwaukee - ECPv4.6.9//NONSGML v1.0//EN
CALSCALE:GREGORIAN
METHOD:PUBLISH
X-WR-CALNAME:Urban Milwaukee
X-ORIGINAL-URL:https://urbanmilwaukee.com
X-WR-CALDESC:Events for Urban Milwaukee
BEGIN:VEVENT
DTSTART;TZID=America/Chicago:20200305T190000
DTEND;TZID=America/Chicago:20200305T210000
DTSTAMP:20260421T075201
CREATED:20200222T033645Z
LAST-MODIFIED:20200222T033645Z
UID:500913-1583434800-1583442000@urbanmilwaukee.com
SUMMARY:Nature Knowledge Trivia Night
DESCRIPTION:Join us for a light-hearted evening of intriguing nature–based trivia. You’ll meet some of our animal ambassadors while testing your knowledge of fascinating wild facts. We’ll keep the fun rolling with snacks and a cash bar. Gather a group of friends to form a team or join up with friendly folks when you arrive. Prizes await the victors! \n
URL:https://urbanmilwaukee.com/event/nature-knowledge-trivia-night-5/
LOCATION:1111 E. Brown Deer Rd.\, Milwaukee\, WI\, 53217\, United States
CATEGORIES:Arts & Entertainment
ATTACH;FMTTYPE=image/jpeg:https://urbanmilwaukee.com/wp-content/uploads/2020/02/schlitz-audubon-nature-knowledge.jpg
END:VEVENT
END:VCALENDAR