BEGIN:VCALENDAR
VERSION:2.0
PRODID:-//Urban Milwaukee - ECPv4.6.9//NONSGML v1.0//EN
CALSCALE:GREGORIAN
METHOD:PUBLISH
X-WR-CALNAME:Urban Milwaukee
X-ORIGINAL-URL:https://urbanmilwaukee.com
X-WR-CALDESC:Events for Urban Milwaukee
BEGIN:VEVENT
DTSTART;TZID=America/Chicago:20160911T140000
DTEND;TZID=America/Chicago:20160911T170000
DTSTAMP:20260424T090212
CREATED:20160907T113455Z
LAST-MODIFIED:20160907T113455Z
UID:180850-1473602400-1473613200@urbanmilwaukee.com
SUMMARY:Nail That Audition!
DESCRIPTION:Get personal tips for improvement from an experienced audition judge\, producer and director for Youth Theater. \nInstructor: Angie Mack Reilly | Ages: 7- High School \n
URL:https://urbanmilwaukee.com/event/nail-that-audition/
CATEGORIES:Arts & Entertainment
ATTACH;FMTTYPE=image/jpeg:https://urbanmilwaukee.com/wp-content/uploads/2016/08/NSAAlogo13.jpg
END:VEVENT
END:VCALENDAR