BEGIN:VCALENDAR
VERSION:2.0
PRODID:-//Urban Milwaukee - ECPv4.6.9//NONSGML v1.0//EN
CALSCALE:GREGORIAN
METHOD:PUBLISH
X-WR-CALNAME:Urban Milwaukee
X-ORIGINAL-URL:https://urbanmilwaukee.com
X-WR-CALDESC:Events for Urban Milwaukee
BEGIN:VEVENT
DTSTART;TZID=America/Chicago:20190511T130000
DTEND;TZID=America/Chicago:20190511T170000
DTSTAMP:20260419T174732
CREATED:20181211T093018Z
LAST-MODIFIED:20181211T093018Z
UID:410863-1557579600-1557594000@urbanmilwaukee.com
SUMMARY:MYSO's Rhythm and Blues
DESCRIPTION:Performance features all Jazz combos\, including the elite Bronzeville Jazz Ensemble\, plus Calypso and Soca steel bands. \nAdmission is pay-what-you-can. \n
URL:https://urbanmilwaukee.com/event/mysos-rhythm-and-blues/
LOCATION:325 W. Walnut St.\, Milwaukee\, WI\, 53212\, United States
CATEGORIES:Arts & Entertainment
ATTACH;FMTTYPE=image/jpeg:https://urbanmilwaukee.com/wp-content/uploads/2018/06/15-Rhythm-and-Blues.jpg
END:VEVENT
END:VCALENDAR