BEGIN:VCALENDAR
VERSION:2.0
PRODID:-//Urban Milwaukee - ECPv4.6.9//NONSGML v1.0//EN
CALSCALE:GREGORIAN
METHOD:PUBLISH
X-WR-CALNAME:Urban Milwaukee
X-ORIGINAL-URL:https://urbanmilwaukee.com
X-WR-CALDESC:Events for Urban Milwaukee
BEGIN:VEVENT
DTSTART;TZID=America/Chicago:20200517T180000
DTEND;TZID=America/Chicago:20200517T200000
DTSTAMP:20260425T134339
CREATED:20191007T035131Z
LAST-MODIFIED:20191007T035131Z
UID:473744-1589738400-1589745600@urbanmilwaukee.com
SUMMARY:MYSO presents Symphonic Celebration
DESCRIPTION:This performance will feature the Percussion Ensemble\, Philharmonia\, and Chamber Orchestra. \nTickets: Adult: $12; Student/Senior: $10; Premium Reserve: $25 \n
URL:https://urbanmilwaukee.com/event/myso-presents-symphonic-celebration/
LOCATION:218 N. East Ave.\, Waukesha\, WI\, 53186\, United States
CATEGORIES:Arts & Entertainment
ATTACH;FMTTYPE=image/jpeg:https://urbanmilwaukee.com/wp-content/uploads/2019/09/19-Symphonic-Celebration.jpg
END:VEVENT
END:VCALENDAR