BEGIN:VCALENDAR
VERSION:2.0
PRODID:-//Urban Milwaukee - ECPv4.6.9//NONSGML v1.0//EN
CALSCALE:GREGORIAN
METHOD:PUBLISH
X-WR-CALNAME:Urban Milwaukee
X-ORIGINAL-URL:https://urbanmilwaukee.com
X-WR-CALDESC:Events for Urban Milwaukee
BEGIN:VEVENT
DTSTART;TZID=America/Chicago:20200131T190000
DTEND;TZID=America/Chicago:20200131T203000
DTSTAMP:20260422T121855
CREATED:20190917T010859Z
LAST-MODIFIED:20190917T010859Z
UID:473712-1580497200-1580502600@urbanmilwaukee.com
SUMMARY:MYSO presents Rhythmic Revolution
DESCRIPTION:Performance features MYSO’s Rumba Latin jazz combo plus the Calypso and Soca steel bands. \nAdmission is pay what you can \n
URL:https://urbanmilwaukee.com/event/myso-presents-rhythmic-revolution-2/
LOCATION:325 W. Walnut St.\, Milwaukee\, WI\, 53212\, United States
CATEGORIES:Arts & Entertainment
ATTACH;FMTTYPE=image/jpeg:https://urbanmilwaukee.com/wp-content/uploads/2019/09/05-Rhythmic-Revolution.jpg
END:VEVENT
END:VCALENDAR