BEGIN:VCALENDAR
VERSION:2.0
PRODID:-//Urban Milwaukee - ECPv4.6.9//NONSGML v1.0//EN
CALSCALE:GREGORIAN
METHOD:PUBLISH
X-WR-CALNAME:Urban Milwaukee
X-ORIGINAL-URL:https://urbanmilwaukee.com
X-WR-CALDESC:Events for Urban Milwaukee
BEGIN:VEVENT
DTSTART;TZID=America/Chicago:20200516T190000
DTEND;TZID=America/Chicago:20200516T210000
DTSTAMP:20260425T201948
CREATED:20191007T041454Z
LAST-MODIFIED:20191007T041454Z
UID:473741-1589655600-1589662800@urbanmilwaukee.com
SUMMARY:MYSO presents Metamorphosis
DESCRIPTION:The Sinfonia Philharmonic and Wind Ensemble will be featured. \nTickets: Adult: $12; Student/Senior: $10; Premium Reserve: $25 \n
URL:https://urbanmilwaukee.com/event/myso-presents-metamorphosis/
LOCATION:218 N. East Ave.\, Waukesha\, WI\, 53186\, United States
CATEGORIES:Arts & Entertainment
ATTACH;FMTTYPE=image/jpeg:https://urbanmilwaukee.com/wp-content/uploads/2019/09/18-Metamorphosis.jpg
END:VEVENT
END:VCALENDAR