BEGIN:VCALENDAR
VERSION:2.0
PRODID:-//Urban Milwaukee - ECPv4.6.9//NONSGML v1.0//EN
CALSCALE:GREGORIAN
METHOD:PUBLISH
X-WR-CALNAME:Urban Milwaukee
X-ORIGINAL-URL:https://urbanmilwaukee.com
X-WR-CALDESC:Events for Urban Milwaukee
BEGIN:VEVENT
DTSTART;TZID=America/Chicago:20191103T160000
DTEND;TZID=America/Chicago:20191103T173000
DTSTAMP:20260424T114900
CREATED:20190916T130042Z
LAST-MODIFIED:20190916T130042Z
UID:473683-1572796800-1572802200@urbanmilwaukee.com
SUMMARY:MYSO presents Founders Concert
DESCRIPTION:This annual performance showcases our acclaimed flagship orchestra\, the Senior Symphony\, and features Milwaukee Symphony Orchestra violinist Yuka Kadota as guest soloist. \nTickets: Adult: $12; Student/Senior: $10; Premium Reserve: $25 \n
URL:https://urbanmilwaukee.com/event/myso-presents-founders-concert/
LOCATION:19805 W. Capitol Dr.\, Brookfield\, WI\, 53045\, United States
CATEGORIES:Arts & Entertainment
ATTACH;FMTTYPE=image/jpeg:https://urbanmilwaukee.com/wp-content/uploads/2019/09/03-Founders-Concert-new-est.jpg
END:VEVENT
END:VCALENDAR