BEGIN:VCALENDAR
VERSION:2.0
PRODID:-//Urban Milwaukee - ECPv4.6.9//NONSGML v1.0//EN
CALSCALE:GREGORIAN
METHOD:PUBLISH
X-WR-CALNAME:Urban Milwaukee
X-ORIGINAL-URL:https://urbanmilwaukee.com
X-WR-CALDESC:Events for Urban Milwaukee
BEGIN:VEVENT
DTSTART;TZID=America/Chicago:20200513T190000
DTEND;TZID=America/Chicago:20200513T203000
DTSTAMP:20260425T220152
CREATED:20190916T125718Z
LAST-MODIFIED:20190916T125718Z
UID:473736-1589396400-1589401800@urbanmilwaukee.com
SUMMARY:MYSO presents A Flute Festival
DESCRIPTION:The two flute choirs are highlighted in the ensembles’ final appearances of the season. \nTickets: Adult: $12; Student/Senior: $10; Premium Reserve: $25 \n
URL:https://urbanmilwaukee.com/event/myso-presents-a-flute-festival-2/
LOCATION:8815 W. Wisconsin Ave.\, Milwaukee\, WI\, United States
CATEGORIES:Arts & Entertainment
ATTACH;FMTTYPE=image/jpeg:https://urbanmilwaukee.com/wp-content/uploads/2019/09/16-A-Flute-Festival.jpg
END:VEVENT
END:VCALENDAR