BEGIN:VCALENDAR
VERSION:2.0
PRODID:-//Urban Milwaukee - ECPv4.6.9//NONSGML v1.0//EN
CALSCALE:GREGORIAN
METHOD:PUBLISH
X-WR-CALNAME:Urban Milwaukee
X-ORIGINAL-URL:https://urbanmilwaukee.com
X-WR-CALDESC:Events for Urban Milwaukee
BEGIN:VEVENT
DTSTART;TZID=America/Chicago:20260509T133000
DTEND;TZID=America/Chicago:20260509T153000
DTSTAMP:20260425T134302
CREATED:20250623T213157Z
LAST-MODIFIED:20250623T213157Z
UID:880817-1778333400-1778340600@urbanmilwaukee.com
SUMMARY:Mrs. Christie
DESCRIPTION:This effervescent\, charming new comedy celebrates writers\, womanhood\, and the stories that shape our lives. In 1926\, famed author Agatha Christie vanished for 11 days\, reappearing without explanation. The real-life case of the “Missing Mrs. Christie” became a tabloid sensation\, but the reasons behind her disappearance remain unknown. Now\, 100 years later\, a devoted superfan stumbles upon the clues that could finally crack the case\, launching a coming-of-age journey of memory and self-discovery – with the thrill of a good old-fashioned mystery. \nBy Heidi Armbruster \nDirected by Joanie Schultz \nTickets: Starting at $25 \n
URL:https://urbanmilwaukee.com/event/mrs-christie-29/
LOCATION:108 E. Wells St.\, Milwaukee\, WI\, 53202\, United States
CATEGORIES:Arts & Entertainment
ATTACH;FMTTYPE=image/jpeg:https://urbanmilwaukee.com/wp-content/uploads/2025/06/MRS.C_2526-Listings_Urban-Milwaukee_1200x630-28.jpg
END:VEVENT
END:VCALENDAR