BEGIN:VCALENDAR
VERSION:2.0
PRODID:-//Urban Milwaukee - ECPv4.6.9//NONSGML v1.0//EN
CALSCALE:GREGORIAN
METHOD:PUBLISH
X-WR-CALNAME:Urban Milwaukee
X-ORIGINAL-URL:https://urbanmilwaukee.com
X-WR-CALDESC:Events for Urban Milwaukee
BEGIN:VEVENT
DTSTART;TZID=America/Chicago:20231104T190000
DTEND;TZID=America/Chicago:20231104T210000
DTSTAMP:20260419T214834
CREATED:20231102T043445Z
LAST-MODIFIED:20231102T043445Z
UID:746955-1699124400-1699131600@urbanmilwaukee.com
SUMMARY:Mr. and Miss Trans USA Pageant
DESCRIPTION:A national competition unlike any other\, the annual Mr. and Miss Trans USA Pageant features dozens of representatives from across the country vying for one of the most prestigious titles in LGBTQ+ pageantry today. In addition to live entertainment from some of the best performance artists in the industry\, attendees of all ages are invited to cheer on our delegates from each state/territory as they compete in on-stage categories including State Costume\, Formal Wear\, Swimsuit\, and Q&A. \nImmerse yourself in the complete experience of pageantry at the national level with our gala-style theme (Color Vision) celebrating the full spectrum of transgender lives and experiences as we honor Dylan B. Dickherson White and Marisol Trevino\, Mr. and Miss Trans USA 2022\, for their exceptional advocacy work and visibility during their reign! \n“Visibility isn’t about being seen. It’s about making others feel seen.” – Dylan B Dickherson White\, Mr. Trans USA 2022 \nFor information on the host hotel\, registration\, and pre-/post-show events\, please visit transusanationalpageantry.com. \nContestant registration for 2023 closes on September 30th at 11:59 pm EST. \nThis event is presented by an independent organization separate from the Marcus Performing Arts Center. \n
URL:https://urbanmilwaukee.com/event/mr-and-miss-trans-usa-pageant/
LOCATION:929 N. Water St.\, Milwaukee\, United States
CATEGORIES:Arts & Entertainment
ATTACH;FMTTYPE=image/jpeg:https://urbanmilwaukee.com/wp-content/uploads/2022/11/Marcus-Performing-Arts-Center.jpg
END:VEVENT
END:VCALENDAR