BEGIN:VCALENDAR
VERSION:2.0
PRODID:-//Urban Milwaukee - ECPv4.6.9//NONSGML v1.0//EN
CALSCALE:GREGORIAN
METHOD:PUBLISH
X-WR-CALNAME:Urban Milwaukee
X-ORIGINAL-URL:https://urbanmilwaukee.com
X-WR-CALDESC:Events for Urban Milwaukee
BEGIN:VEVENT
DTSTART;TZID=America/Chicago:20161112T193000
DTEND;TZID=America/Chicago:20161112T210000
DTSTAMP:20260424T064423
CREATED:20161108T114316Z
LAST-MODIFIED:20161113T174733Z
UID:189142-1478979000-1478984400@urbanmilwaukee.com
SUMMARY:Mozart’s Requiem
DESCRIPTION:Join us for TWO nights of Mozart’s Requiem\, one of the most famous choral works in the classical repertoire! \nUWM Symphony Orchestra and Combined Choirs will perform this magnificent work under the direction of Jun Kim. \nFeatured Soloists:\nAlisa Jordheim\, soprano\nColleen Brooks\, mezzo soprano\nDavid Hoffman\, tenor\nDavid Dong-Geun Kim\, baritone \nThe evening’s program will also include the national premiere of “Orion”\, an orchestral work by Spanish/American composer\, Miguel A. Roig-Francolí. \nPerformances at 7:30 p.m. both evenings. \n
URL:https://urbanmilwaukee.com/event/mozarts-requiem-2/
CATEGORIES:Arts & Entertainment
ATTACH;FMTTYPE=image/jpeg:https://urbanmilwaukee.com/wp-content/uploads/2016/11/14700978_736689106483335_438218856840304574_o.jpg
END:VEVENT
END:VCALENDAR