BEGIN:VCALENDAR
VERSION:2.0
PRODID:-//Urban Milwaukee - ECPv4.6.9//NONSGML v1.0//EN
CALSCALE:GREGORIAN
METHOD:PUBLISH
X-WR-CALNAME:Urban Milwaukee
X-ORIGINAL-URL:https://urbanmilwaukee.com
X-WR-CALDESC:Events for Urban Milwaukee
BEGIN:VEVENT
DTSTART;TZID=America/Chicago:20171202T140000
DTEND;TZID=America/Chicago:20171202T170000
DTSTAMP:20260423T001523
CREATED:20171017T195734Z
LAST-MODIFIED:20171215T003841Z
UID:376056-1512223200-1512234000@urbanmilwaukee.com
SUMMARY:MOWA's Annual Champagne Shopping Party
DESCRIPTION:Sip bubbly and enjoy light bites at our annual shopping party! Delight in the holidays with an afternoon of music\, champagne\, and unique holiday gifts by Wisconsin artists. Three+ and FOWA Members will receive 30% off all Shop purchases as a special holiday gift during the Champagne Shopping Party! \nMOWA’s annual Christmas card is made by the crew at ArtCycle! Purchase a set at the Champagne Shopping Party! \n
URL:https://urbanmilwaukee.com/event/mowas-annual-champagne-shopping-party/
CATEGORIES:Arts & Entertainment
ATTACH;FMTTYPE=image/jpeg:https://urbanmilwaukee.com/wp-content/uploads/2017/09/Gerit-on-ladder-with-Big-Couple-firing.jpg
END:VEVENT
END:VCALENDAR