BEGIN:VCALENDAR
VERSION:2.0
PRODID:-//Urban Milwaukee - ECPv4.6.9//NONSGML v1.0//EN
CALSCALE:GREGORIAN
METHOD:PUBLISH
X-WR-CALNAME:Urban Milwaukee
X-ORIGINAL-URL:https://urbanmilwaukee.com
X-WR-CALDESC:Events for Urban Milwaukee
BEGIN:VEVENT
DTSTART;TZID=America/Chicago:20190509T183000
DTEND;TZID=America/Chicago:20190509T200000
DTSTAMP:20260420T025935
CREATED:20190407T151532Z
LAST-MODIFIED:20190407T151532Z
UID:446878-1557426600-1557432000@urbanmilwaukee.com
SUMMARY:Movie Screening: Decoding the Driftless
DESCRIPTION:Join us for Decoding the Driftless\, a wild ride of adventure above\, on\, and below Wisconsin’s amazing Driftless Region! Emmy-winning filmmakers George Howe\, Tim Jacobson\, Rob Nelson\, and Neil Rettig have teamed up with Jonas Stenstrom of Untamed Science\, to capture fantastic footage of the Driftless Region\, and weave it into a compelling story. You’ll soar over ancient rugged bluffs\, skim the surface of primordial rivers\, venture deep underground to mysterious secret worlds\, marvel at sacred archeological treasures\, and hang perilously over massive rock cliffs. The film shares the regions unique ecosystems and talks about current conservation efforts. \nProducer George Howe will introduce the film and take questions after the screening. This event is co-presented with Outpost Natural Foods. The event is free to all\, but registration is required. \n
URL:https://urbanmilwaukee.com/event/movie-screening-decoding-the-driftless/
LOCATION:1111 E. Brown Deer Rd.\, Milwaukee\, WI\, 53217\, United States
CATEGORIES:Arts & Entertainment
ATTACH;FMTTYPE=image/jpeg:https://urbanmilwaukee.com/wp-content/uploads/2019/03/schlitz-audubon-film-screening.jpg
END:VEVENT
END:VCALENDAR