BEGIN:VCALENDAR
VERSION:2.0
PRODID:-//Urban Milwaukee - ECPv4.6.9//NONSGML v1.0//EN
CALSCALE:GREGORIAN
METHOD:PUBLISH
X-WR-CALNAME:Urban Milwaukee
X-ORIGINAL-URL:https://urbanmilwaukee.com
X-WR-CALDESC:Events for Urban Milwaukee
BEGIN:VEVENT
DTSTART;TZID=America/Chicago:20190512T110000
DTEND;TZID=America/Chicago:20190512T160000
DTSTAMP:20260419T130858
CREATED:20190425T215337Z
LAST-MODIFIED:20190425T215337Z
UID:451661-1557658800-1557676800@urbanmilwaukee.com
SUMMARY:Mother's Day Bottomless 'Mom'osas at the SafeHouse!
DESCRIPTION:Your mom deserves a mimosa… and then some! With the purchase or a brunch item or an entrée your mom will feel like the most important spy with bottomless mimosas until 4 p.m.! Call 414-271-2007 and reserve your table now! \nHappy Mother’s Day to all of the spy moms out there- enjoy! \n
URL:https://urbanmilwaukee.com/event/mothers-day-bottomless-momosas-at-the-safehouse/
LOCATION:779 N. Front St.\, Milwaukee\, WI\, 53202\, United States
CATEGORIES:Food & Drink
ATTACH;FMTTYPE=image/jpeg:https://urbanmilwaukee.com/wp-content/uploads/2019/04/mothersday-800x400.jpg
END:VEVENT
END:VCALENDAR