BEGIN:VCALENDAR
VERSION:2.0
PRODID:-//Urban Milwaukee - ECPv4.6.9//NONSGML v1.0//EN
CALSCALE:GREGORIAN
METHOD:PUBLISH
X-WR-CALNAME:Urban Milwaukee
X-ORIGINAL-URL:https://urbanmilwaukee.com
X-WR-CALDESC:Events for Urban Milwaukee
BEGIN:VEVENT
DTSTART;TZID=America/Chicago:20190925T190000
DTEND;TZID=America/Chicago:20190925T200000
DTSTAMP:20260422T124230
CREATED:20190916T115211Z
LAST-MODIFIED:20190916T115211Z
UID:473928-1569438000-1569441600@urbanmilwaukee.com
SUMMARY:Moonshots Then and Now: Why Google Isn’t NASA
DESCRIPTION:Fifty years on\, NASA’s triumphs in the Apollo program have made “moonshot” a part of the language. Dr. Thomas Haigh will compare and contrast NASA’s work on moonshots during the Apollo program with that of private programs\, such as Google X\, also known as Google’s “Moonshot Factory.” \n
URL:https://urbanmilwaukee.com/event/moonshots-then-and-now-why-google-isnt-nasa/
LOCATION:1900 E .Kenwood Blvd.\, Milwaukee\, WI\, 53211\, United States
CATEGORIES:Arts & Entertainment
ATTACH;FMTTYPE=image/jpeg:https://urbanmilwaukee.com/wp-content/uploads/2019/09/2019-September-25-Planetarium.jpg
END:VEVENT
END:VCALENDAR