BEGIN:VCALENDAR
VERSION:2.0
PRODID:-//Urban Milwaukee - ECPv4.6.9//NONSGML v1.0//EN
CALSCALE:GREGORIAN
METHOD:PUBLISH
X-WR-CALNAME:Urban Milwaukee
X-ORIGINAL-URL:https://urbanmilwaukee.com
X-WR-CALDESC:Events for Urban Milwaukee
BEGIN:VEVENT
DTSTART;TZID=America/Chicago:20190422T112000
DTEND;TZID=America/Chicago:20190422T123000
DTSTAMP:20260422T164838
CREATED:20190228T013437Z
LAST-MODIFIED:20190228T013437Z
UID:443340-1555932000-1555936200@urbanmilwaukee.com
SUMMARY:MKE's Tech Future
DESCRIPTION:It was only a couple decades ago that Milwaukee was known for brewing beer and heavy manufacturing. What’s next for Milwaukee? What industries and organizations are shaping the future of Milwaukee? Northwestern Mutual believes technology is shaping Milwaukee’s future. \nHear from Northwestern Mutual at their new Cream City Labs as they discuss the ways they are creating an environment that attracts and supports a vibrant community of tech talent\, entrepreneurs and diverse businesses. They will be joined by speakers from other organizations\, providing a variety of perspectives on how technology is shaping Milwaukee’s future. \n
URL:https://urbanmilwaukee.com/event/mkes-tech-future/
LOCATION:733 N. Van Buren St.\, Milwaukee\, WI\, 53202\, United States
CATEGORIES:Business
ATTACH;FMTTYPE=image/jpeg:https://urbanmilwaukee.com/wp-content/uploads/2019/02/Milwaukee.jpg
END:VEVENT
END:VCALENDAR