BEGIN:VCALENDAR
VERSION:2.0
PRODID:-//Urban Milwaukee - ECPv4.6.9//NONSGML v1.0//EN
CALSCALE:GREGORIAN
METHOD:PUBLISH
X-WR-CALNAME:Urban Milwaukee
X-ORIGINAL-URL:https://urbanmilwaukee.com
X-WR-CALDESC:Events for Urban Milwaukee
BEGIN:VEVENT
DTSTART;TZID=America/Chicago:20190504T150000
DTEND;TZID=America/Chicago:20190504T230000
DTSTAMP:20260420T191853
CREATED:20190322T035146Z
LAST-MODIFIED:20190322T041014Z
UID:446450-1556982000-1557010800@urbanmilwaukee.com
SUMMARY:Mixed Feelings Secret Bar Tour
DESCRIPTION:Join FM102/1’s rolling chaos tour on Saturday\, May 4. \nJust $32 gets you a custom T-shirt\, round-trip bus travel and $3\, $2\, $1 drink specials at seven area bars that we announce as the bus pulls away from our host venue\, McGillycuddy’s. \nTours are 21+ and sell out well in advance\, so get signed up while you can. \nFor tickets and more info go to – www.Secretbartour.com \n
URL:https://urbanmilwaukee.com/event/mixed-feelings-secret-bar-tour/
LOCATION:1135 N. Water St.\, Milwaukee\, WI\, 53202\, United States
CATEGORIES:Food & Drink
ATTACH;FMTTYPE=image/jpeg:https://urbanmilwaukee.com/wp-content/uploads/2019/03/picture-031.jpg
END:VEVENT
END:VCALENDAR