BEGIN:VCALENDAR
VERSION:2.0
PRODID:-//Urban Milwaukee - ECPv4.6.9//NONSGML v1.0//EN
CALSCALE:GREGORIAN
METHOD:PUBLISH
X-WR-CALNAME:Urban Milwaukee
X-ORIGINAL-URL:https://urbanmilwaukee.com
X-WR-CALDESC:Events for Urban Milwaukee
BEGIN:VEVENT
DTSTART;VALUE=DATE:20190504
DTEND;VALUE=DATE:20190506
DTSTAMP:20260421T023149
CREATED:20190501T022807Z
LAST-MODIFIED:20190501T022807Z
UID:448748-1556928000-1557100799@urbanmilwaukee.com
SUMMARY:Milwaukee's Inaugural All-Female and Non-Binary Hackathon
DESCRIPTION:Hack-a-Pipeline two day hackathon! \nWomen make your ideas a reality\, and win cash prizes! \nFind people like you who love tech or enjoy working along side tech to make your idea a reality. \nLearn from Milwaukee female top talent. \nDetails: \nAt Hack-a-Pipeline you will enjoy a two-day hackathon\, (break for sleep @ 10:00 pm on Saturday)\, aimed at creating a high-energy inclusive environment where women and non-binary individuals from all backgrounds can come together and harness their skills to create projects of their own. \nHave fun\, connect with others\, get inspired\, and challenge yourself to build a weekend project with a team in an energizing environment. \nWe need ideators\, designers\, data specialist\, programmers\, testers\, and user interface specialists. If you don’t code that’s okay\, bring your ideas! \nIf you need special accommodations\, please let us know and we will try our best to fill your need; i.e. mother’s room\, child care\, food allergy\, etc. \nIf you’re not sure if this event is for you\, get in touch with us. Lift Up MKE is committed to “Paving the path for diverse technology leaders.” \nSCHOLARSHIPS \nWe want to make this event accessible to all financial situations and we understand that sometimes the ticket cost can be a burden. If you need assistance with the cost of your ticket\, we have scholarships available. Please contact us: Liftupcareers@gmail.com \nREFUNDS \nWe expect this event to sell out and will have a wait list. We will allow refunds until April 19th\, 2019. After that\, we cannot offer a refund. \nALL THE DETAILS \nhttps://liftupmke.com/about-hack-a-pipeline \n
URL:https://urbanmilwaukee.com/event/milwaukees-inaugural-all-female-and-non-binary-hackathon/
LOCATION:313 N. Plankinton Ave. Suite 205\, Milwaukee\, WI\, 53203\, United States
CATEGORIES:Business
ATTACH;FMTTYPE=image/png:https://urbanmilwaukee.com/wp-content/uploads/2019/04/Hackathon-Ad-Pic-1.png
END:VEVENT
END:VCALENDAR