BEGIN:VCALENDAR
VERSION:2.0
PRODID:-//Urban Milwaukee - ECPv4.6.9//NONSGML v1.0//EN
CALSCALE:GREGORIAN
METHOD:PUBLISH
X-WR-CALNAME:Urban Milwaukee
X-ORIGINAL-URL:https://urbanmilwaukee.com
X-WR-CALDESC:Events for Urban Milwaukee
BEGIN:VEVENT
DTSTART;TZID=America/Chicago:20170211T150000
DTEND;TZID=America/Chicago:20170211T170000
DTSTAMP:20260424T024845
CREATED:20160825T043328Z
LAST-MODIFIED:20160825T043328Z
UID:178822-1486825200-1486832400@urbanmilwaukee.com
SUMMARY:Milwaukee Youth Symphony Orchestra presents Symphonic Spectacular
DESCRIPTION:Featuring the Prelude Orchestra\, combined String Orchestras Central and North and Philharmonia. \n
URL:https://urbanmilwaukee.com/event/milwaukee-youth-symphony-orchestra-presents-symphonic-spectacular/
CATEGORIES:Arts & Entertainment
ATTACH;FMTTYPE=image/jpeg:https://urbanmilwaukee.com/wp-content/uploads/2016/07/08-Symphonic-Spectacular.jpg
END:VEVENT
END:VCALENDAR