BEGIN:VCALENDAR
VERSION:2.0
PRODID:-//Urban Milwaukee - ECPv4.6.9//NONSGML v1.0//EN
CALSCALE:GREGORIAN
METHOD:PUBLISH
X-WR-CALNAME:Urban Milwaukee
X-ORIGINAL-URL:https://urbanmilwaukee.com
X-WR-CALDESC:Events for Urban Milwaukee
BEGIN:VEVENT
DTSTART;TZID=America/Chicago:20170520T010000
DTEND;TZID=America/Chicago:20170520T150000
DTSTAMP:20260420T131005
CREATED:20160824T171255Z
LAST-MODIFIED:20160824T171255Z
UID:178863-1495242000-1495292400@urbanmilwaukee.com
SUMMARY:Milwaukee Youth Symphony Orchestra presents String Serenade
DESCRIPTION:The all-string ensembles Prelude Orchestra\, String Orchestras South/West and String Orchestras North/Central will be featured. \n
URL:https://urbanmilwaukee.com/event/milwaukee-youth-symphony-orchestra-presents-string-serenade/
CATEGORIES:Arts & Entertainment
ATTACH;FMTTYPE=image/jpeg:https://urbanmilwaukee.com/wp-content/uploads/2016/07/18-String-Serenade.jpg
END:VEVENT
END:VCALENDAR