BEGIN:VCALENDAR
VERSION:2.0
PRODID:-//Urban Milwaukee - ECPv4.6.9//NONSGML v1.0//EN
CALSCALE:GREGORIAN
METHOD:PUBLISH
X-WR-CALNAME:Urban Milwaukee
X-ORIGINAL-URL:https://urbanmilwaukee.com
X-WR-CALDESC:Events for Urban Milwaukee
BEGIN:VEVENT
DTSTART;TZID=America/Chicago:20170126T173000
DTEND;TZID=America/Chicago:20170126T173000
DTSTAMP:20260424T024845
CREATED:20160824T211357Z
LAST-MODIFIED:20160824T211357Z
UID:178813-1485451800-1485451800@urbanmilwaukee.com
SUMMARY:Milwaukee Youth Symphony Orchestra presents Progressions Winter Wonders
DESCRIPTION:The students of the Progressions program will perform. FREE. \n
URL:https://urbanmilwaukee.com/event/milwaukee-youth-symphony-orchestra-presents-progressions-winter-wonders/
CATEGORIES:Arts & Entertainment
ATTACH;FMTTYPE=image/jpeg:https://urbanmilwaukee.com/wp-content/uploads/2016/07/05-Progressions-Winter-Wonders.jpg
END:VEVENT
END:VCALENDAR