BEGIN:VCALENDAR
VERSION:2.0
PRODID:-//Urban Milwaukee - ECPv4.6.9//NONSGML v1.0//EN
CALSCALE:GREGORIAN
METHOD:PUBLISH
X-WR-CALNAME:Urban Milwaukee
X-ORIGINAL-URL:https://urbanmilwaukee.com
X-WR-CALDESC:Events for Urban Milwaukee
BEGIN:VEVENT
DTSTART;TZID=America/Chicago:20170430T150000
DTEND;TZID=America/Chicago:20170430T170000
DTSTAMP:20260420T085031
CREATED:20160824T211128Z
LAST-MODIFIED:20160824T211128Z
UID:178854-1493564400-1493571600@urbanmilwaukee.com
SUMMARY:Milwaukee Youth Symphony Orchestra presents A Flute Festival
DESCRIPTION:The two flute choirs are highlighted in the ensembles’ final appearance of the season. \n
URL:https://urbanmilwaukee.com/event/milwaukee-youth-symphony-orchestra-presents-a-flute-festival/
CATEGORIES:Arts & Entertainment
ATTACH;FMTTYPE=image/jpeg:https://urbanmilwaukee.com/wp-content/uploads/2016/07/15-Flute-Festival.jpg
END:VEVENT
END:VCALENDAR