BEGIN:VCALENDAR
VERSION:2.0
PRODID:-//Urban Milwaukee - ECPv4.6.9//NONSGML v1.0//EN
CALSCALE:GREGORIAN
METHOD:PUBLISH
X-WR-CALNAME:Urban Milwaukee
X-ORIGINAL-URL:https://urbanmilwaukee.com
X-WR-CALDESC:Events for Urban Milwaukee
BEGIN:VEVENT
DTSTART;TZID=America/Chicago:20171006T170000
DTEND;TZID=America/Chicago:20171006T220000
DTSTAMP:20260423T191507
CREATED:20170918T210817Z
LAST-MODIFIED:20170918T210817Z
UID:373287-1507309200-1507327200@urbanmilwaukee.com
SUMMARY:Milwaukee Oktoberfest
DESCRIPTION:Join us for live polka music all day long by local polka groups and a nightly concert when the sun goes down ! Weekend activities include a Bags Tournament\, Weiner Dog Racing\, The 4th Annual Miss Oktoberfest Competition\, Brat Eating Contest\, Stein Hoisting Competition\, and so much more! Delicious german food will be provided by Milwaukee Brat House! \n
URL:https://urbanmilwaukee.com/event/milwaukee-oktoberfest-4/
CATEGORIES:Food & Drink
ATTACH;FMTTYPE=image/jpeg:https://urbanmilwaukee.com/wp-content/uploads/2017/08/Reach-5.jpg
END:VEVENT
END:VCALENDAR