BEGIN:VCALENDAR
VERSION:2.0
PRODID:-//Urban Milwaukee - ECPv4.6.9//NONSGML v1.0//EN
CALSCALE:GREGORIAN
METHOD:PUBLISH
X-WR-CALNAME:Urban Milwaukee
X-ORIGINAL-URL:https://urbanmilwaukee.com
X-WR-CALDESC:Events for Urban Milwaukee
BEGIN:VEVENT
DTSTART;VALUE=DATE:20161007
DTEND;VALUE=DATE:20161010
DTSTAMP:20260424T060605
CREATED:20161007T113007Z
LAST-MODIFIED:20161007T113007Z
UID:184426-1475798400-1476057599@urbanmilwaukee.com
SUMMARY:Milwaukee NARI Home & Remodeling Show
DESCRIPTION:The Milwaukee NARI Home & Remodeling Show will be held Fri.\, Oct. 7 – Sun.\, Oct. 9\, 2016\, at the State Fair Park Exposition Center in West Allis\, Wis. \nThe Show will provide attendees with an opportunity to meet with more than 100 Milwaukee NARI member exhibitors\, displaying the latest home improvement and remodeling products and services\, including design/build\, kitchens\, decks\, cabinets\, windows\, wall covering\, bathrooms\, lighting\, landscaping\, roofing\, painting\, fireplaces\, siding\, and more. \nIn addition\, there will be daily educational presentations and demonstrations by home improvement specialists\, including Melinda Myers\, on Fri.\, Oct. 7 at 2:30 p.m. The Show will also feature cooking competitions and chefs preparing their favorite recipes\, including former Green Bay Packer Leroy Butler on Sat.\, Oct. 8 at 1 p.m. \nSpecial attractions at the Show include the Interactive Smart Home Gallery\, a “Create and Take” area\, live music\, the Milwaukee NARI Show Information area\, a 50/50 cash raffle presented by the Milwaukee NARI Foundation. Inc.\, and much more. \nHours on Fri.\, Oct. 7 are 12 p.m. – 8 p.m.\, 10:00 a.m. – 8:00 p.m. on Sat.\, Oct. 8\, and on Sun.\, Oct. 9\, from 10 a.m. – 5 p.m. Admission is $8 in advance\, and $10 at the door. Tickets for seniors\, 60 and older\, are $8\, while children 17 and younger and active and retired military personnel with military identification are admitted at no charge. \nMilwaukee NARI is an elite association of the best home improvement and remodeling professionals in the area and a trusted resource for consumers. Since 1961\, Milwaukee NARI has promoted ethical conduct\, professionalism\, and sound business practices in the remodeling industry and education for the consumer. Consumers should have confidence when selecting a Milwaukee NARI contractor for their home improvement project. \nFor more information on the Home & Remodeling Show\, or to receive a free copy of the annual membership directory along with the booklet\, Milwaukee NARI’s Remodeling Guide\, visit www.milwaukeenari.org or call Milwaukee NARI at 414-771-4071. \n
URL:https://urbanmilwaukee.com/event/milwaukee-nari-home-remodeling-show/
CATEGORIES:Real Estate
ATTACH;FMTTYPE=image/png:https://urbanmilwaukee.com/wp-content/uploads/2016/09/NARI.png
END:VEVENT
END:VCALENDAR