BEGIN:VCALENDAR
VERSION:2.0
PRODID:-//Urban Milwaukee - ECPv4.6.9//NONSGML v1.0//EN
CALSCALE:GREGORIAN
METHOD:PUBLISH
X-WR-CALNAME:Urban Milwaukee
X-ORIGINAL-URL:https://urbanmilwaukee.com
X-WR-CALDESC:Events for Urban Milwaukee
BEGIN:VEVENT
DTSTART;TZID=America/Chicago:20190512T110000
DTEND;TZID=America/Chicago:20190512T160000
DTSTAMP:20260419T161117
CREATED:20190417T081908Z
LAST-MODIFIED:20190417T081908Z
UID:450171-1557658800-1557676800@urbanmilwaukee.com
SUMMARY:Milwaukee Museum Mile Day
DESCRIPTION:EXHIBITS • DOCENT-LED TOURS • KIDS ACTIVITIES • PRIZES • REFRESHMENTS \nEnjoy art\, history\, and architecture on the Historic East Side during our 8th Annual MMM Day. Take mom out for Mother’s Day brunch and head to any of our five museums for a Sunday afternoon filled with fun and stunning city views. Enter raffles at each museum for a chance to win prizes. For more info\, please visit: mmmday.org \nEXPLORE OUR MUSEUMS: \nCharles Allis Art Museum — FREE\nJewish Museum Milwaukee — FREE \nNorth Point Lighthouse— Adults\, $5 • Under 12 yrs.\, Seniors 65+ yrs.\, and Active/Retired Military with ID\, FREE \nMOWA at Saint John’s On The Lake — FREE\nVilla Terrace Decorative Arts Museum – FREE \nWALK\, BIKE\, OR RIDE THE FREE SHUTTLE:\nThe shuttle bus will run every 30 min. between all museums (begins at 11 a.m. at Saint John’s On The Lake) 11 a.m. – 4 p.m. \n
URL:https://urbanmilwaukee.com/event/milwaukee-museum-mile-day-3/
LOCATION:2650 N. Wahl Avenue\, Milwaukee\, WI\, 53211\, United States
CATEGORIES:Arts & Entertainment
ATTACH;FMTTYPE=image/jpeg:https://urbanmilwaukee.com/wp-content/uploads/2019/04/mmm-day-facebppk.jpg
END:VEVENT
END:VCALENDAR